BEGIN:VCALENDAR
VERSION:2.0
PRODID:-//Cob Workshops - ECPv5.14.0.4//NONSGML v1.0//EN
CALSCALE:GREGORIAN
METHOD:PUBLISH
X-WR-CALNAME:Cob Workshops
X-ORIGINAL-URL:https://cobworkshops.org
X-WR-CALDESC:Events for Cob Workshops
REFRESH-INTERVAL;VALUE=DURATION:PT1H
X-Robots-Tag:noindex
X-PUBLISHED-TTL:PT1H
BEGIN:VTIMEZONE
TZID:America/Denver
BEGIN:DAYLIGHT
TZOFFSETFROM:-0700
TZOFFSETTO:-0600
TZNAME:MDT
DTSTART:20190310T090000
END:DAYLIGHT
BEGIN:STANDARD
TZOFFSETFROM:-0600
TZOFFSETTO:-0700
TZNAME:MST
DTSTART:20191103T080000
END:STANDARD
BEGIN:DAYLIGHT
TZOFFSETFROM:-0700
TZOFFSETTO:-0600
TZNAME:MDT
DTSTART:20200308T090000
END:DAYLIGHT
BEGIN:STANDARD
TZOFFSETFROM:-0600
TZOFFSETTO:-0700
TZNAME:MST
DTSTART:20201101T080000
END:STANDARD
BEGIN:DAYLIGHT
TZOFFSETFROM:-0700
TZOFFSETTO:-0600
TZNAME:MDT
DTSTART:20210314T090000
END:DAYLIGHT
BEGIN:STANDARD
TZOFFSETFROM:-0600
TZOFFSETTO:-0700
TZNAME:MST
DTSTART:20211107T080000
END:STANDARD
BEGIN:DAYLIGHT
TZOFFSETFROM:-0700
TZOFFSETTO:-0600
TZNAME:MDT
DTSTART:20220313T090000
END:DAYLIGHT
BEGIN:STANDARD
TZOFFSETFROM:-0600
TZOFFSETTO:-0700
TZNAME:MST
DTSTART:20221106T080000
END:STANDARD
END:VTIMEZONE
BEGIN:VEVENT
DTSTART;VALUE=DATE:20220716
DTEND;VALUE=DATE:20220718
DTSTAMP:20260421T152802
CREATED:20220626T040510Z
LAST-MODIFIED:20220626T205208Z
UID:8687-1657929600-1658102399@cobworkshops.org
SUMMARY:Earthen Building Weekend
DESCRIPTION:Earthen Building Weekend\nNatural Building at an Off-Grid Urban Homestead\nDates: Saturday\, 7/16/2022 – Sunday morning\, 7/17/2022 \nNumber of Students: up to 15 \nCost: $150 \nJoin us for a day and a half of earthen building in Reno\, Nevada. \nWhen: Saturday\, July 16th from 8:00 am to 5:00 pm and Sunday\, July 17th from 8:00 am to noon. \nWhere: The Be the Change Project urban homestead in Reno\, NV.  2055 McCloud Avenue\, Reno\, NV 89512 \nBTC is the home of Kyle Isacksen\, Katy Chandler and their two sons and is a permaculture demonstration site replete with annual and perennial organic gardens\, appropriate technologies in use\, and various earthen constructions. BTC is a hub for community and sustainability education. \nWhat you will learn: This is an ideal workshop for people who want to explore the possibilities of earthen construction. We’ll be building more wall for a 200 square foot earthen “shed” that was partially built in a ten-day workshop in May and June. We’ll start with earth bags for the stem wall\, mix and build with cob\, make adobe bricks\, do bale cob and cordwood cob\, make and apply basic plasters\, check out appropriate technologies (solar wall heater\, solar oven\, solar shower\, greywater\, root cellar…) and learn the basics about windows\, doors\, niches\, sculpting\, and more. We’ll tour other earthy buildings on site\, you’ll have the opportunity to ask tons of questions\, and you’ll leave with the basic knowledge of how to build with earth. \nPizza party using our cob oven on Saturday night. Locals\, please bring a topping to share. \n​If you’re coming from out of town\, there are lodging options in our backyard cabins as well as camping. Along with lodging we’ll provide a pizza dinner on Saturday and breakfast on Sunday for an additional $20 fee/pp. Partners get a discount. \nBring your own lunches\, snacks\, water bottles\, gloves\, clothes that can get dirty…RSVP to Kyle to sign up and to get more information. \nRegistration \nContact Kyle via email to register and learn how to pay.
URL:https://cobworkshops.org/event/earthy-weekend/
LOCATION:Be the Change Project\, 2055 McCloud Avenue\, Reno\, NV\, 89512\, United States
CATEGORIES:Workshop
ATTACH;FMTTYPE=image/jpeg:https://cobworkshops.org/wp-content/uploads/Z6A9021.jpg
ORGANIZER;CN="Kyle%20Isacksen":MAILTO:kisacksen@gmail.com
END:VEVENT
BEGIN:VEVENT
DTSTART;TZID=America/Denver:20190703T150000
DTEND;TZID=America/Denver:20190713T140000
DTSTAMP:20260421T152802
CREATED:20181018T202554Z
LAST-MODIFIED:20190526T231110Z
UID:7736-1562166000-1563026400@cobworkshops.org
SUMMARY:Complete cob and natural building intensive (includes building an earthen oven and a wood-fired hot tub)
DESCRIPTION:(The workshop start with dinner on the first day and end with lunch on the last day) \n​Fee: $1275 \nMaximum class size: 16 students \nOur 2019 workshop “complete Cob and Natural building” is already full; send us an email if you would like to be added to the waiting list. We will be doing several workshops in 2020 and will post them on the web in September. To get an alert about this\, please sign up for our newsletter. \n​Included in the fee: \n\nInstructions\ncamping spot\n3 vegetarian meals\, Coffee\, tea\, water\nOur book “House of Earth”\nVersaTerra Certificate\nTransportation from Medford airport or bus station.\n\nInstructor Conrad Rogue and Kyle Chandler-Isacksen \n\n\n\n​Overview \n\n\nThis is the most comprehensive workshop you can find. Decades of teaching on four different continents has helped us design this rich learning experience\,  giving students the tools they need to become confident earthen builders.Earth is the mother of all building materials. For millennia\, and all over the world\, people have used earth to build beautiful\, simple\, efficient and inexpensive homes. It’s plentiful\, ecological and non-toxic. Plus\, it can’t burn\, won’t rot and is much simpler to build with than conventional construction. \nWe will teach you how to use clay-soil to build just about everything. From strong structural walls (cob and Adobe) to beautiful floors\, plasters and light-straw-clay walls. Because the materials are fireproof\, they are ideally suited to sculpt ovens\, fireplaces and cook stoves.The essence of your learning experience will revolve around developing a deep understanding of how to process and combine a few simple materials: clay-soil\, sand and straw. How you apply that in your building adventures is then up to you\, but you will find the possibilities endless and exciting.  \nDuring this workshop we will build a beautiful garden wall and an earthen bread/pizza oven. Within the wall\, we will incorporate all the features of a wall that would be part of a earthen house: Windows\, doors\, electricity\, plumbing\, arches\, niches\, and artwork. \n(We don’t think it’s a good idea to start a whole building in a shorter workshop (as attractive as that may sound); it will have people do too much of one thing (mixing cob and wall building) and will not able to learn the other important aspects of natural building in a meaningful way\, such as roof variations\, natural plasters\, earthen floors and design.) \n\n\n  \nWhat will you learn \nAfter this workshop\, you will feel confident that you can \n\nbuild yourself a cob cottage\nremodel\, renovate an existing home\, using natural materials\nbuild and use an earthen oven\nbuild and use a wood-fired hot tub\nuse cob to create garden walls\, outdoor fireplaces\, patios\, benches\, etc.\ndesign small cottages\nteach a one-day natural building event yourself!\n\nSpecifically\, you will get hands-on experience and skill development in the following areas: \n\nFoundation systems\, rubble trench\, stem walls\, earthbag construction (as a stem wall)\nIdentifying the right materials\, screening\, processing\, testing\, costs\, amount calculations\nMixing cob efficiently\, making adobe bricks\nBuilding with cob: strong sculptural walls\, arches\, windows and doors\, niches\, artwork and mosaics\nelectricity and plumbing\, how to install wires and pipes in the walls\nroof attachment and roof design\nLight-straw-clay: this is an infill techniques perfect for code approved buildings and natural renovations of existing homes. You will learn how to make the right materials and how to install them\nNatural plasters\, tools\, making your own plasters and paints\, colors\, applications\, how to apply it on earthen walls\, drywall\, wood\, concrete\nTamped floors\, finish earthen floors in natural buildings\, earthen floors in existing homes on plywood\, oriented strand board and concrete\nEarthen ovens: from start to finish and how to use them (we will be baking pizza in the oven we will build)\nwood-fired hot tubs: size\, materials\, chimneys\nDifferent design strategies\, natural design essentials\, passive solar\, using cob to make models\nBuilding codes\, how they work\, how to work around them\n\nDuring every workshop we make time for specific issues related to individual situations. This usually include a careful look at different climates and regions\, living with families or in communities\, dealing with the building code\, physical and financial challenges\, appropriate technologies and more. \nOur book “House of Earth” will be used as a textbook for the workshop. \n  \nThe daily schedule \n\n\nWe are aware that students make a big investment in a workshop such as this. We honor your time and do the best we can to share our knowledge and experience. Expect long days with lots of building and learning. In the evenings we will show slides and films\, featuring our previous projects and that of other people and cultures. Believe it or not\, we also still like to make time for a campfire and some music. We always strive to make the workshop itself a comfortable\, memorable and fun experience. \n7;30 breakfast \n8:30 building with cob \n1:00 lunch \n2:30 other techniques\, lectures and oven building \n6;30 Dinner \n7:00 free time/slide shows/campfire \n​ \n\n\n\nAbout the site\n\n\n\nThe workshop will take place at the House Alive homestead in Southern Oregon\, 15 minutes away from the historic town of Jacksonville (check out the Britt music festival to see if there is something you want to see while you are nearby!) Our site is dotted with a dozen or so cob cottages\, garden walls\, ovens\, and also has a code approved hybrid house (straw bale\, cob\, conventional). \nAs a student you will get first hand experiences of composting toilets\, solar cookers\, solar showers\, off-grid photo-voltaic charging and other forms of appropriate technologies. \n​House Alive is located in the Siskiyou mountain range and has a mixed pine/oak/fir forest. Our homestead is peaceful and safe. The weather this time of the year is sunny and warm (sometimes hot) and the evenings/nights are cool. Rain is rare\, but possible. \nYou will be provided with a flat\, private and shady camping spot. We also have hot showers\, composting toilets\, and internet. \n\n\n\nVersaTerra* certification \nAfter full participation\, every student will receive a VersaTerra certificate. We believe that after taking this workshop\, participants are qualified to teach at least a one-day event in their neighborhood. The certificate will also allow you to promote your event(s) through the House Alive Facebook page. By providing a certificate\, we want to empower our student to become facilitators of community revitalization through building with earth! \n​*VersaTerra is a holistic design\, building and living philosophy\, celebrating clay-soil as its primary building material. Clay-soil is: \n\nplentiful\, inexpensive or free\, durable\, easy to maintain and modify\, and endlessly reusable\nnon-toxic\, breathable\, soft\, beautiful\, and displays superior performance in a wide variety of climates\nsculptural by nature\, inviting to work with needing only simple tools and methods\, and easily combines with other natural and human made materials.\n\nBy focusing on these specific qualities of clay-soil\, we can make the design\, building and living process a conduit for community revitalization and personal transformation\, while creating housing with dignity for the people of this world. \nClick here to read more about Versaterra \n\n\n  \nBringing kids! \nWe welcome the participation of young ones. In past workshops they have always been a welcome addition to our group and have participated in the learning process at different levels\, depending on their age and interest. \n\nChildren age 0-3 can come along for free\,\nages 4-12 the fee is $450\nages 13-17 the fee is $700\n\n\n\nRegistration \n​It’s easy to register for this workshop\, go to our registration page\, fill out the simple form and send in a deposit to secure your spot(s). These workshops have often have filled to capacity\, so don’t wait too long if you think this workshop is for you!
URL:https://cobworkshops.org/event/complete-cob-and-natural-building-intensive-includes-building-an-earthen-oven/
LOCATION:House Alive\, 7540 Griffin Lane\, Jacksonville\, OR\, 97530\, United States
CATEGORIES:Workshop
ATTACH;FMTTYPE=image/jpeg:https://cobworkshops.org/wp-content/uploads/PANO_20181014_113102.jpg
ORGANIZER;CN="House%20Alive%21":MAILTO:welcome@housealive.org
GEO:42.220545;-122.947076
X-APPLE-STRUCTURED-LOCATION;VALUE=URI;X-ADDRESS=House Alive 7540 Griffin Lane Jacksonville OR 97530 United States;X-APPLE-RADIUS=500;X-TITLE=7540 Griffin Lane:geo:-122.947076,42.220545
END:VEVENT
END:VCALENDAR