BEGIN:VCALENDAR
VERSION:2.0
PRODID:-//Cob Workshops - ECPv5.14.0.4//NONSGML v1.0//EN
CALSCALE:GREGORIAN
METHOD:PUBLISH
X-WR-CALNAME:Cob Workshops
X-ORIGINAL-URL:https://cobworkshops.org
X-WR-CALDESC:Events for Cob Workshops
REFRESH-INTERVAL;VALUE=DURATION:PT1H
X-Robots-Tag:noindex
X-PUBLISHED-TTL:PT1H
BEGIN:VTIMEZONE
TZID:America/Denver
BEGIN:DAYLIGHT
TZOFFSETFROM:-0700
TZOFFSETTO:-0600
TZNAME:MDT
DTSTART:20220313T090000
END:DAYLIGHT
BEGIN:STANDARD
TZOFFSETFROM:-0600
TZOFFSETTO:-0700
TZNAME:MST
DTSTART:20221106T080000
END:STANDARD
END:VTIMEZONE
BEGIN:VEVENT
DTSTART;TZID=America/Denver:20220715T153300
DTEND;TZID=America/Denver:20220718T175500
DTSTAMP:20260421T164418
CREATED:20220622T032523Z
LAST-MODIFIED:20220701T024143Z
UID:8683-1657899180-1658166900@cobworkshops.org
SUMMARY:Cob Oven Rebuild at Wo-Man-I-Fest
DESCRIPTION:Wo-Man-I-Fest is a collective of teachers\, artists\, inspired visionaries and entrepreneurs who empower others to step into their highest potential.\nWo-Man-I-Fest is an intentional container to honor\, restore\, and harmonize the divine feminine (WO) and divine masculine (MAN) apart with the supreme consciousness (I) to co-create and manifest our\ndreams of a more beautiful world. All humans are welcome; women\, men and children.\n\n \n\nWe support authentic connection\, intimacy\, inclusivity and love. This is a restorative festival centered around the ancient teaching of womb mysteries\, the art of embodying sovereignty within symbiotic relationship\, and creative empowerment… all delivered in a playful and interactive way.\n\n\n\nWe will be rebuilding an existing cob oven dome over the weekend to be ready for the pizza party on Monday. Your entrance fee is on a sliding scale from $88 to $333 which includes lunch every day\, a place to camp\, sound healing\, ecstatic dancing\, workshops and community. Visit the website and register.
URL:https://cobworkshops.org/event/cob-oven-rebuild-at-wo-man-i-fest/
LOCATION:Bear and Bunny Permaculture Farm\, Deer Island\, OR\, United States
ATTACH;FMTTYPE=image/jpeg:https://cobworkshops.org/wp-content/uploads/06C0AE29-10DF-481F-A014-3CAD15C4C39B.jpeg
END:VEVENT
END:VCALENDAR