BEGIN:VCALENDAR
VERSION:2.0
PRODID:-//Cob Workshops - ECPv5.14.0.4//NONSGML v1.0//EN
CALSCALE:GREGORIAN
METHOD:PUBLISH
X-WR-CALNAME:Cob Workshops
X-ORIGINAL-URL:https://cobworkshops.org
X-WR-CALDESC:Events for Cob Workshops
REFRESH-INTERVAL;VALUE=DURATION:PT1H
X-Robots-Tag:noindex
X-PUBLISHED-TTL:PT1H
BEGIN:VTIMEZONE
TZID:America/Denver
BEGIN:DAYLIGHT
TZOFFSETFROM:-0700
TZOFFSETTO:-0600
TZNAME:MDT
DTSTART:20220313T090000
END:DAYLIGHT
BEGIN:STANDARD
TZOFFSETFROM:-0600
TZOFFSETTO:-0700
TZNAME:MST
DTSTART:20221106T080000
END:STANDARD
END:VTIMEZONE
BEGIN:VEVENT
DTSTART;TZID=America/Denver:20220708T080000
DTEND;TZID=America/Denver:20220710T170000
DTSTAMP:20260421T162443
CREATED:20220420T153049Z
LAST-MODIFIED:20220420T153049Z
UID:8666-1657267200-1657472400@cobworkshops.org
SUMMARY:Cob Oven Weekend
DESCRIPTION:Cob Oven Weekend – $500 \nJuly 8th-10th (From 9am on the 8th to 3pm on the 10th) \nThis workshop is a great introduction to natural building materials and methods. We will build a wood-fired \ncob bread/pizza oven from start to finish. Students will build the stone foundation\, firebrick hearth\, cob \nstructure\, and finish the oven with earthen plasters. We will also build an attached cob wall and a \ncast-in-place concrete countertop. You will learn the skills to go home and build your own oven! \nWhat to expect: \nOur days will be spent engaged in hands-on building and learning with natural materials. Expect a rich \nweekend of natural and community building with the group. We’ll work\, learn\, eat\, and relax with each \nother in a positive\, hard-working\, fun atmosphere. Conversation on natural building will provide constant \nbackground chatter throughout the weekend. Evenings are typically unscheduled so folks have time to \nenjoy the site\, explore nearby towns\, or relax around the fire. \nWe will make time for a few focused discussions on related natural building subjects such as \nstraw-bale construction\, passive solar design\, wood framing\, roofing\, permits and codes\, and more. \nMichael may give an interesting slideshow presentation. \nThe Site: \nOur site is Stablegate Farm\, a beautiful family owned winery\, wedding venue\, and spiritual center. \nLocated at 10-12 Linda Way Castleton-on-Hudson\, NY 12033. Camping facalties include a bathouse \nwith toilet/sink\, a hot/cold water outdoor shower\, and a fire pit gathering area. \nMeals/Food preferences: \nWe will serve three meals daily\, cooked on-site by staff. The food will be healthy and filling vegetarian \ncuisine with a vegan option. Many of the ingredients will be sourced from local farms. Please indicate any \nfood allergies upon registration. \nSchedule: \nThe workshop will begin at 9am on Friday the 8th. We will break for lunch around 1pm and work again \nuntil 5pm. The evening is informal and unscheduled\, although a campfire hang-out will be available. \nBreakfast will be served at 8am with the workshop to follow. Saturday we have to end early\, around 3pm \nto accommodate a wedding that day. Participants may arrive Thursday evening to set up camp\, but no \nmeals will be provided until lunch Friday. \nInstructor: \nMichael McDonough is a Troy\, NY based building contractor\, designer\, and educator. His work can be \nfound at the North Carolina Museum of Life and Science\, Bonnaroo Music and Arts Festival\, Oxmoor \nFarm\, and a number of happy homesteads around the east coast. He learned a great deal by working with \nleading natural builders including Ianto Evans\, Clark Sanders\, Thea Alvin\, Ben Simpson. He has taught \nabout 20 natural building workshops. \nWhat to bring: \n* Camping equipment including tent\, sleeping bag\, flashlight \n* Work clothes and shoes. Slip on/off shoes are recommended\, such as crocks\, sandals\, etc. \n* Work gloves \n* Sunscreen\, bug spray\, hat\, water bottle\, rain gear \n* Notebook\, building plans or sketches to discuss \nTo Register: \nTuition is $500 and includes the camping fee\, workshop experience and materials\, and all meals. Group \nrates\, discounts for previous students\, or for taking multiple courses are possible. \nYou may register via paypal by sending the tuition to michael@risingearthbuilding.com \nOr mail your tuition check to the address below and we will confirm your registration via email. \nRising Earth Natural Building \n363 3rd St. \nTroy\, NY 12180 \nCall or email with questions: \n(919) 685-0123 \nmichael@risingearthbuilding.com
URL:https://cobworkshops.org/event/cob-oven-weekend-2/
LOCATION:Stable Gate Farm\, Linda Way\, Castleton on Hudson\, NY\, 12033\, United States
ATTACH;FMTTYPE=image/png:https://cobworkshops.org/wp-content/uploads/Cob-oven-workshop-flyer.png
ORGANIZER;CN="Rising%20Earth%20Natural%20Building":MAILTO:risingearthbuilding@gmail.com
END:VEVENT
END:VCALENDAR